BEGIN:VCALENDAR
VERSION:2.0
PRODID:-//Hamburger Konservatorium - ECPv6.15.20//NONSGML v1.0//EN
CALSCALE:GREGORIAN
METHOD:PUBLISH
X-ORIGINAL-URL:https://hamburger-konservatorium.de
X-WR-CALDESC:Veranstaltungen für Hamburger Konservatorium
REFRESH-INTERVAL;VALUE=DURATION:PT1H
X-Robots-Tag:noindex
X-PUBLISHED-TTL:PT1H
BEGIN:VTIMEZONE
TZID:Europe/Berlin
BEGIN:DAYLIGHT
TZOFFSETFROM:+0100
TZOFFSETTO:+0200
TZNAME:CEST
DTSTART:20250330T010000
END:DAYLIGHT
BEGIN:STANDARD
TZOFFSETFROM:+0200
TZOFFSETTO:+0100
TZNAME:CET
DTSTART:20251026T010000
END:STANDARD
BEGIN:DAYLIGHT
TZOFFSETFROM:+0100
TZOFFSETTO:+0200
TZNAME:CEST
DTSTART:20260329T010000
END:DAYLIGHT
BEGIN:STANDARD
TZOFFSETFROM:+0200
TZOFFSETTO:+0100
TZNAME:CET
DTSTART:20261025T010000
END:STANDARD
BEGIN:DAYLIGHT
TZOFFSETFROM:+0100
TZOFFSETTO:+0200
TZNAME:CEST
DTSTART:20270328T010000
END:DAYLIGHT
BEGIN:STANDARD
TZOFFSETFROM:+0200
TZOFFSETTO:+0100
TZNAME:CET
DTSTART:20271031T010000
END:STANDARD
END:VTIMEZONE
BEGIN:VEVENT
DTSTART;TZID=Europe/Berlin:20260425T100000
DTEND;TZID=Europe/Berlin:20260425T170000
DTSTAMP:20260419T225558
CREATED:20260401T143951Z
LAST-MODIFIED:20260401T143953Z
UID:10000484-1777111200-1777136400@hamburger-konservatorium.de
SUMMARY:Body Percussion – Spiele\, Grooves und Lieder für Gruppen
DESCRIPTION:Raum 515 \n\n\n\nWorkshop der Landesmusikakademie Hamburg \n\n\n\nDozent: Ben Schütz \n\n\n\nInformationen unter: www.landesmusikakademie-hamburg.de
URL:https://hamburger-konservatorium.de/veranstaltung/body-percussion-spiele-grooves-und-lieder-fuer-gruppen-2/
LOCATION:Hamburger Konservatorium\, Musik.Werk.Stadt Ottensen\, Lilly-Giordano-Stieg 1\, Hamburg\, 22763
END:VEVENT
BEGIN:VEVENT
DTSTART;TZID=Europe/Berlin:20260426T170000
DTEND;TZID=Europe/Berlin:20260426T170000
DTSTAMP:20260419T225558
CREATED:20260122T073658Z
LAST-MODIFIED:20260402T080453Z
UID:10000453-1777222800-1777222800@hamburger-konservatorium.de
SUMMARY:Bossa Beats
DESCRIPTION:Brasilian Voice & Guitar \n\n\n\nAndré Krikula Trio \n\n\n\nAndré Krikula ist Gitarrist und Sänger aus Hamburg und steht für erstklassige brasilianische Musik. Mit großer Leidenschaft widmet er sich Bossa Nova und Música Popular Brasileira und interpretiert Klassiker von Antônio Carlos Jobim\, Luiz Bonfá\, Dorival Caymmi oder Gilberto Gil ebenso überzeugend wie eigene Kompositionen. \n\n\n\nIn seinen eigenen Stücken verbindet André Krikula brasilianische Rhythmen mit Elementen aus Jazz und Funk zu einem unverwechselbaren\, stilvollen Sound. Sein virtuoses Gitarrenspiel erinnert an Baden Powell\, während sein Gesang die entspannte\, zeitlose Coolness von João Gilberto aufleben lässt – ein authentisches\, lebendiges Musikerlebnis mit brasilianischem Flair. \n\n\n\nAndré Krikula – Gitarre\, Gesang \n\n\n\nCesar Ferreira – drums\, Gesang \n\n\n\nAxel Burkardt – Bass
URL:https://hamburger-konservatorium.de/veranstaltung/bossa-beats/
LOCATION:Hamburger Konservatorium\, Goßlerhaus\, Goßlers Park 1\, Hamburg\, 22587
ATTACH;FMTTYPE=image/jpeg:https://hamburger-konservatorium.de/wp-content/uploads/2026/01/AndreKrikulaBand_KathrinStahlPhotographer_-47-004.jpg
END:VEVENT
BEGIN:VEVENT
DTSTART;TZID=Europe/Berlin:20260428T100000
DTEND;TZID=Europe/Berlin:20260428T120000
DTSTAMP:20260419T225558
CREATED:20260106T152742Z
LAST-MODIFIED:20260106T152746Z
UID:10000444-1777370400-1777377600@hamburger-konservatorium.de
SUMMARY:Professionalisierung im Beruf
DESCRIPTION:Dienstag\, 27. Januar /17. Februar / 31. März / 28. April / 02. Juni 2026 \n\n\n\nJeweils 10.00-12.00 Uhr\, Raum E 17 (EG) \n\n\n\nDigitale Teilnahme möglich \n\n\n\nWorkshop der Landesmusikakademie Hamburg \n\n\n\nBerufskunde für Musiker*innen: \n\n\n\nVerträge\, Künstlersozialkasse\, Steuern\, Versicherungen\, Selbstmanagement \n\n\n\nDozentin: Anke Nickel \n\n\n\nInformation und Anmeldung: www.landesmusikakademie-hamburg.de
URL:https://hamburger-konservatorium.de/veranstaltung/professionalisierung-im-beruf-2/
LOCATION:Hamburger Konservatorium\, Musik.Werk.Stadt Ottensen\, Lilly-Giordano-Stieg 1\, Hamburg\, 22763
END:VEVENT
BEGIN:VEVENT
DTSTART;TZID=Europe/Berlin:20260428T173000
DTEND;TZID=Europe/Berlin:20260428T173000
DTSTAMP:20260419T225558
CREATED:20260401T144054Z
LAST-MODIFIED:20260401T144056Z
UID:10000485-1777397400-1777397400@hamburger-konservatorium.de
SUMMARY:Klaviervorspiel
DESCRIPTION:Schüler*innen und Studierende der Klasse Ryszard Alzin
URL:https://hamburger-konservatorium.de/veranstaltung/klaviervorspiel/
LOCATION:Hamburger Konservatorium\, Musik.Werk.Stadt Ottensen\, Lilly-Giordano-Stieg 1\, Hamburg\, 22763
END:VEVENT
BEGIN:VEVENT
DTSTART;TZID=Europe/Berlin:20260530T100000
DTEND;TZID=Europe/Berlin:20260530T160000
DTSTAMP:20260419T225558
CREATED:20260228T201518Z
LAST-MODIFIED:20260228T201627Z
UID:10000409-1780135200-1780156800@hamburger-konservatorium.de
SUMMARY:Tag der offenen Tür
DESCRIPTION:Entdecken & ausprobieren\, mitmachen\, zuhören! \n\n\n\nNähere Infos zu den einzelnen Angeboten und Veranstaltungen folgen.
URL:https://hamburger-konservatorium.de/veranstaltung/tag-der-offenen-tuer/
LOCATION:Hamburger Konservatorium\, Musik.Werk.Stadt Ottensen\, Lilly-Giordano-Stieg 1\, Hamburg\, 22763
ATTACH;FMTTYPE=image/webp:https://hamburger-konservatorium.de/wp-content/uploads/2025/08/Tag-der-offenen-Tuer.webp
END:VEVENT
BEGIN:VEVENT
DTSTART;TZID=Europe/Berlin:20260602T100000
DTEND;TZID=Europe/Berlin:20260602T120000
DTSTAMP:20260419T225558
CREATED:20260106T152604Z
LAST-MODIFIED:20260106T152605Z
UID:10000446-1780394400-1780401600@hamburger-konservatorium.de
SUMMARY:Professionalisierung im Beruf
DESCRIPTION:Dienstag\, 27. Januar /17. Februar / 31. März / 28. April / 02. Juni 2026 \n\n\n\nJeweils 10.00-12.00 Uhr\, Raum E 17 (EG) \n\n\n\nDigitale Teilnahme möglich \n\n\n\nWorkshop der Landesmusikakademie Hamburg \n\n\n\nBerufskunde für Musiker*innen: \n\n\n\nVerträge\, Künstlersozialkasse\, Steuern\, Versicherungen\, Selbstmanagement \n\n\n\nDozentin: Anke Nickel \n\n\n\nInformation und Anmeldung: www.landesmusikakademie-hamburg.de
URL:https://hamburger-konservatorium.de/veranstaltung/professionalisierung-im-beruf/2026-06-02/
LOCATION:Hamburger Konservatorium\, Musik.Werk.Stadt Ottensen\, Lilly-Giordano-Stieg 1\, Hamburg\, 22763
END:VEVENT
BEGIN:VEVENT
DTSTART;TZID=Europe/Berlin:20260605T180000
DTEND;TZID=Europe/Berlin:20260605T180000
DTSTAMP:20260419T225558
CREATED:20260401T144423Z
LAST-MODIFIED:20260401T144425Z
UID:10000487-1780682400-1780682400@hamburger-konservatorium.de
SUMMARY:Konzert der Klavierstudierenden der Klassen Daria Marshinina und Stefan Matthewes
DESCRIPTION:
URL:https://hamburger-konservatorium.de/veranstaltung/konzert-der-klavierstudierenden-der-klassen-daria-marshinina-und-stefan-matthewes/
LOCATION:Hamburger Konservatorium\, Musik.Werk.Stadt Ottensen\, Lilly-Giordano-Stieg 1\, Hamburg\, 22763
END:VEVENT
BEGIN:VEVENT
DTSTART;TZID=Europe/Berlin:20260606T100000
DTEND;TZID=Europe/Berlin:20260606T130000
DTSTAMP:20260419T225558
CREATED:20260316T135603Z
LAST-MODIFIED:20260401T143343Z
UID:10000474-1780740000-1780750800@hamburger-konservatorium.de
SUMMARY:Bewegungs- und Rhythmusspiele im JeKi-Unterricht
DESCRIPTION:Raum 515 \n\n\n\nWorkshop der Landesmusikakademie Hamburg \n\n\n\nThema: Förderung des sozialen Miteinander \n\n\n\nDozentin: Ulrike Depenbusch \n\n\n\nInformationen unter: www.landesmusikakademie-hamburg.de
URL:https://hamburger-konservatorium.de/veranstaltung/bewegungs-und-rhythmusspiele-im-jeki-unterricht/
LOCATION:Hamburger Konservatorium\, Musik.Werk.Stadt Ottensen\, Lilly-Giordano-Stieg 1\, Hamburg\, 22763
END:VEVENT
BEGIN:VEVENT
DTSTART;TZID=Europe/Berlin:20260607T150000
DTEND;TZID=Europe/Berlin:20260607T150000
DTSTAMP:20260419T225558
CREATED:20260401T144612Z
LAST-MODIFIED:20260401T144614Z
UID:10000488-1780844400-1780844400@hamburger-konservatorium.de
SUMMARY:Ensemble-Konzert
DESCRIPTION:Klangvolle Melodien und mitreißende Kompositionen gespielt von drei Ensembles für Erwachsene: \n\n\n\n\nQuerflötenorchester – Leitung: Julia Wetzel-Kagelmann\n\n\n\nHanse Folk Collective – Leitung: Ulrike Buth und Hilke Billerbeck\n\n\n\nKlarinetten-Ensemble – Leitung: Johanna Hierholzer
URL:https://hamburger-konservatorium.de/veranstaltung/ensemble-konzert/
LOCATION:Hamburger Konservatorium\, Musik.Werk.Stadt Ottensen\, Lilly-Giordano-Stieg 1\, Hamburg\, 22763
END:VEVENT
BEGIN:VEVENT
DTSTART;TZID=Europe/Berlin:20260612T180000
DTEND;TZID=Europe/Berlin:20260612T210000
DTSTAMP:20260419T225558
CREATED:20260316T135722Z
LAST-MODIFIED:20260316T135724Z
UID:10000475-1781287200-1781298000@hamburger-konservatorium.de
SUMMARY:Blues-Arrangements im JeKi-Unterricht
DESCRIPTION:Raum 317 \n\n\n\nWorkshop der Landesmusikakademie Hamburg \n\n\n\nDozent: Heiko Quistorf \n\n\n\nInformationen unter: www.landesmusikakademie-hamburg.de
URL:https://hamburger-konservatorium.de/veranstaltung/blues-arrangements-im-jeki-unterricht/
LOCATION:Hamburger Konservatorium\, Musik.Werk.Stadt Ottensen\, Lilly-Giordano-Stieg 1\, Hamburg\, 22763
END:VEVENT
BEGIN:VEVENT
DTSTART;TZID=Europe/Berlin:20260613T110000
DTEND;TZID=Europe/Berlin:20260613T110000
DTSTAMP:20260419T225558
CREATED:20260401T144715Z
LAST-MODIFIED:20260401T144717Z
UID:10000489-1781348400-1781348400@hamburger-konservatorium.de
SUMMARY:Sommerliches Schülerkonzert – Klavier\, Klasse Tomoe Maruyama
DESCRIPTION:
URL:https://hamburger-konservatorium.de/veranstaltung/sommerliches-schuelerkonzert-klavier-klasse-tomoe-maruyama/
LOCATION:Hamburger Konservatorium\, Musik.Werk.Stadt Ottensen\, Lilly-Giordano-Stieg 1\, Hamburg\, 22763
END:VEVENT
BEGIN:VEVENT
DTSTART;TZID=Europe/Berlin:20260614T150000
DTEND;TZID=Europe/Berlin:20260614T150000
DTSTAMP:20260419T225558
CREATED:20260316T140019Z
LAST-MODIFIED:20260316T140840Z
UID:10000476-1781449200-1781449200@hamburger-konservatorium.de
SUMMARY:Elbphilharmonie Publikumsorchester
DESCRIPTION:Michael Petermann – Dirigent \n\n\n\nProgramm: \n\n\n\n\nMauricio Kagel – Zehn Märsche\, um den Sieg zu verfehlen\n\n\n\nEdward Elgar – Serenade für Streichorchester e-Moll op. 20\n\n\n\nModest Mussorgsky / Maurice Ravel – Bilder einer Ausstellung\n\n\n\n\nKarten zu € 12\,- \n\n\n\nIn Kooperation mit HamburgMusik \n\n\n\nwww.elbphilharmonie.de \n\n\n\nMit Unterstützung der Aurubis AG \n\n\n\nMit Unterstützung des Nordkolleg Rendsburg
URL:https://hamburger-konservatorium.de/veranstaltung/elbphilharmonie-publikumsorchester/
LOCATION:Kulturpalast Hamburg\, Öjendorfer Weg 30a\, Hamburg\, 22119
ATTACH;FMTTYPE=image/jpeg:https://hamburger-konservatorium.de/wp-content/uploads/2022/01/Elbphilharmonie_Logo_quer1_4C_H1-scaled.jpg
END:VEVENT
BEGIN:VEVENT
DTSTART;TZID=Europe/Berlin:20260620T100000
DTEND;TZID=Europe/Berlin:20260620T170000
DTSTAMP:20260419T225558
CREATED:20260316T140945Z
LAST-MODIFIED:20260316T140946Z
UID:10000477-1781949600-1781974800@hamburger-konservatorium.de
SUMMARY:Cajon - einfache Ideen für kleine Gruppen
DESCRIPTION:Raum G4 \n\n\n\nWorkshop der Landesmusikakademie Hamburg \n\n\n\nDozent: Conny Sommer \n\n\n\nInformationen unter: www.landesmusikakademie-hamburg.de
URL:https://hamburger-konservatorium.de/veranstaltung/cajon-einfache-ideen-fuer-kleine-gruppen/
LOCATION:Hamburger Konservatorium\, Goßlerhaus\, Goßlers Park 1\, Hamburg\, 22587
END:VEVENT
BEGIN:VEVENT
DTSTART;TZID=Europe/Berlin:20260620T200000
DTEND;TZID=Europe/Berlin:20260620T200000
DTSTAMP:20260419T225558
CREATED:20260316T141119Z
LAST-MODIFIED:20260316T141412Z
UID:10000478-1781985600-1781985600@hamburger-konservatorium.de
SUMMARY:Elbphilharmonie Publikumsorchester
DESCRIPTION:Michael Petermann – Dirigent \n\n\n\nProgramm: \n\n\n\n\nMauricio Kagel – Zehn Märsche\, um den Sieg zu verfehlen\n\n\n\nEdward Elgar – Serenade für Streichorchester e-Moll op. 20\n\n\n\nModest Mussorgsky / Maurice Ravel – Bilder einer Ausstellung\n\n\n\n\nKarten zu € 8\,- / 16\,- /24\,- \n\n\n\nIn Kooperation mit HamburgMusik \n\n\n\nwww.elbphilharmonie.de \n\n\n\nMit Unterstützung der Aurubis AG \n\n\n\nMit Unterstützung des Nordkolleg Rendsburg
URL:https://hamburger-konservatorium.de/veranstaltung/elbphilharmonie-publikumsorchester-2/
LOCATION:Elbphilharmonie\, Platz der Deutschen Einheit 4\, Hamburg\, 20457
ATTACH;FMTTYPE=image/jpeg:https://hamburger-konservatorium.de/wp-content/uploads/2022/01/Elbphilharmonie_Logo_quer1_4C_H1-scaled.jpg
END:VEVENT
BEGIN:VEVENT
DTSTART;TZID=Europe/Berlin:20260704T163000
DTEND;TZID=Europe/Berlin:20260704T163000
DTSTAMP:20260419T225558
CREATED:20260401T144813Z
LAST-MODIFIED:20260401T144815Z
UID:10000490-1783182600-1783182600@hamburger-konservatorium.de
SUMMARY:Sommerkonzert der Klavierklasse Daria Marshinina
DESCRIPTION:
URL:https://hamburger-konservatorium.de/veranstaltung/sommerkonzert-der-klavierklasse-daria-marshinina/
LOCATION:Hamburger Konservatorium\, Musik.Werk.Stadt Ottensen\, Lilly-Giordano-Stieg 1\, Hamburg\, 22763
END:VEVENT
BEGIN:VEVENT
DTSTART;TZID=Europe/Berlin:20260926T100000
DTEND;TZID=Europe/Berlin:20260926T130000
DTSTAMP:20260419T225558
CREATED:20260316T141603Z
LAST-MODIFIED:20260316T141605Z
UID:10000479-1790416800-1790427600@hamburger-konservatorium.de
SUMMARY:Musikalische Spiele im Gruppenuntericht
DESCRIPTION:Musikraum / EG \n\n\n\nWorkshop der Landesmusikakademie Hamburg \n\n\n\nDozentin: Christine Heidingsfelder \n\n\n\nInformationen unter: www.landesmusikakademie-hamburg.de
URL:https://hamburger-konservatorium.de/veranstaltung/musikalische-spiele-im-gruppenuntericht/
LOCATION:Carl-Cohn-Schule\, Carl-Cohn-Str. 2\, Hamburg\, 22297
END:VEVENT
BEGIN:VEVENT
DTSTART;TZID=Europe/Berlin:20261114T100000
DTEND;TZID=Europe/Berlin:20261115T180000
DTSTAMP:20260419T225558
CREATED:20260316T141932Z
LAST-MODIFIED:20260316T141934Z
UID:10000480-1794650400-1794765600@hamburger-konservatorium.de
SUMMARY:TAKETINA – Rhythmuspädagogik nach Reinhard Flatischler
DESCRIPTION:Beginn jeweils 10:00 Uhr \n\n\n\nRaum 515 \n\n\n\nWorkshop der Landesmusikakademie Hamburg \n\n\n\nDozent*innen: Esther Diethelm und Joachim Münster \n\n\n\nInfos unter: www.landesmusikakademie-hamburg.de
URL:https://hamburger-konservatorium.de/veranstaltung/taketina-rhythmuspaedagogik-nach-reinhard-flatischler/
END:VEVENT
BEGIN:VEVENT
DTSTART;TZID=Europe/Berlin:20261121T100000
DTEND;TZID=Europe/Berlin:20261121T160000
DTSTAMP:20260419T225558
CREATED:20260316T142045Z
LAST-MODIFIED:20260316T142125Z
UID:10000481-1795255200-1795276800@hamburger-konservatorium.de
SUMMARY:Workshop für freie Improvisation II  für alle Instrumente und Gesang
DESCRIPTION:Samstag\, 21. November 2026\, 10.00 – 16.00 Uhr \n\n\n\nRaum 317 \n\n\n\nWorkshop der Landesmusikakademie Hamburg \n\n\n\nDozent: Edgar Herzog \n\n\n\nInfos unter: www.landesmusikakademie-hamburg.de
URL:https://hamburger-konservatorium.de/veranstaltung/workshop-fuer-freie-improvisation-ii-fuer-alle-instrumente-und-gesang/
LOCATION:Hamburger Konservatorium\, Musik.Werk.Stadt Ottensen\, Lilly-Giordano-Stieg 1\, Hamburg\, 22763
END:VEVENT
END:VCALENDAR